BEGIN:VCALENDAR
VERSION:2.0
PRODID:-//jEvents 2.0 for Joomla//EN
CALSCALE:GREGORIAN
METHOD:PUBLISH
BEGIN:VEVENT
UID:77dbf5f42ef83d6f9e2c3de8d9d451b3
CATEGORIES:Default
SUMMARY:IMPROVIZĀCIJAS TEĀTRA "PLIT" IZRĀDE
LOCATION:Carnikavas tautas nams "Ozolaine"
DESCRIPTION;ENCODING=QUOTED-PRINTABLE:\n\n \n\n\n1. maijā 18:00 Pasaulē labākā improvizācijas teātra “PLIT” izrād
 e\nCarnikavas tautas namā "Ozolaine", Jūras ielā 1a\nIeeja par ziedojumiem 
 \nIzrāde notiek sadarbībā ar nodibinājumu “Palīdzēsim.lv”\n\n\n
CONTACT:29541105
DTSTAMP:20260419T233846Z
DTSTART:20160501T180000Z
SEQUENCE:0
TRANSP:OPAQUE
END:VEVENT
END:VCALENDAR