BEGIN:VCALENDAR
VERSION:2.0
PRODID:-//jEvents 2.0 for Joomla//EN
CALSCALE:GREGORIAN
METHOD:PUBLISH
BEGIN:VEVENT
UID:228d150c4484c65ce8483fe02ba6924e
CATEGORIES:Default
SUMMARY:Balto sarunu laiks
LOCATION:Carnikavas Novadpētniecības centrs
DESCRIPTION;ENCODING=QUOTED-PRINTABLE:\n\n\n\n\n3. maijā plkst. 17:00 Carnikavas Novadpētniecības centrā Carnikav
 as novada iedzīvotāju tikšanās 'Balto sarunu laiks"\nŠobrīd Latvijā tiek ie
 dibināta jauna tradīcija, kas aicina 4. maijā pulcēties pie balti klātiem g
 aldiem, lai dzimtas un kopienas, kaimiņi, ciemu un pilsētu iedzīvotāji dalī
 tos kopīgos atmiņu stāstos un pieredzē. Arī Carnikavas novads gatavojas Bal
 tā galdauta svētkiem un aicina visiem kopīgi noaust svētku galdautu, kā arī
  pašiem darināt māla traukus cienastam.\n\n Carnikavas novada dome ir iecer
 ējusi sadarbībā ar TLMS „Auseklītis” novietot publiski pieejamā vietā stell
 es, kur katram Carnikavas novada iedzīvotājam būs iespēja ieaust savu daļu 
 Carnikavas novada Baltajā galdautā, kā arī īpašā “Baltā galdauta grāmatā” i
 erakstīt vēlējumu Latvijai, kas pēc tam glabāsies Carnikavas Novadpētniecīb
 as centrā. Uzsākt galdauta aušanu iecerēts šī gada 18. novembrī, svinot Lat
 vijas valsts 98. dzimšanas dienu. \n \n Lai uz kopīgi austā galdauta varētu
  arī svētku cienastu ievietot pašu gatavotos traukos, jau šī gada 14. maijā
  izstādes „Zemes māls” atklāšanas dienā būs iespēja sākt no māla gatavot tr
 aukus Baltā galdauta svētkiem. 9. jūlijā Zvejnieksvētku laikā norisināsies 
 lielā cienasta trauku gatavošanas darbnīca, bet Nēģu svētkos 20. augustā ti
 ks dedzināts ceplis un trauki ieraudzīs dienas gaismu.\n\n Plānots, ka jau 
 2017. gada 4. maijā pirmo reizi klāsim lielo, garo svinību galdu, nesīsim p
 ašu gatavotus cienastus un daudzināsim savu novadu, novadnieku ieguldījumu,
  kā arī uzteiksim visus PAR, kas mums dod spēku un iedvesmu dzīvot skaisti 
 Latvijā. Lai tikšanās pie Balti klātā galda top par Balto darbu un Balto sa
 runu laiku! Un sāksim gatavoties jau tagad, pieliekot savu roku Balto svētk
 u tapšanā!\n\n 3. maijā Carnikavas novada domes Izglītības un Kultūras noda
 ļa aicina novada iedzīvotājus uz tikšanos Carnikavas Novadpētniecības centr
 ā pie balti klāta galda, lai pārrunātu Latvijas valsts simtgades svinību ie
 ceres, kas tālāk tiks publiskotas masu medijos un Latvijas valsts simtgades
  biroja svētku programmā. Radām svētkus kopā!
CONTACT:29541105
DTSTAMP:20260419T233822Z
DTSTART:20160503T170000Z
SEQUENCE:0
TRANSP:OPAQUE
END:VEVENT
END:VCALENDAR