BEGIN:VCALENDAR
VERSION:2.0
PRODID:-//jEvents 2.0 for Joomla//EN
CALSCALE:GREGORIAN
METHOD:PUBLISH
BEGIN:VEVENT
UID:add09b5e86f292716f06967b4066dfd6
CATEGORIES:Default
SUMMARY:Ģimenes diena Carnikavas parkā
LOCATION:Carnikavas parks
DESCRIPTION;ENCODING=QUOTED-PRINTABLE:\n\n\n21. maijā plkst. 15:00 Carnikavas novada Ģimenes diena\n Carnikavas p
 arkā\n Carnikavas novada dome sveiks 2015. gadā dzimušos Carnikavas novada 
 iedzīvotājus.\nSvētku laikā ģimenes varēs piedalīties dažādās sporta un vei
 klības sacensībās, lai tiktu pie izveicīgāko un draudzīgāko ģimeņu tituliem
 . Aicinām katrai ģimenei ierasties vienotā vizuālajā ietērpā. Visinteresant
 āk tērptā ģimene iegūs pavasarīgākās ģimenes titulu!\nPiedalās bērnu deju k
 olektīvs „Dālderītis”, bērnu popgrupa “Jūras zaķi” un jaunā, talantīgā Carn
 ikavas jauniešu grupa "Summer Knight Band".\n\nPasākuma noslēgumā studija “
 Teātris un es” pierāvās izrādi visai ģimenei “Sunītis un Kaķīte”\nPasākuma 
 laikā darbosies piepūšamās atrakcijas bērniem un dažādas radošās darbnīcas.
 \n\n Ieeja brīva\n
CONTACT:29541105
DTSTAMP:20260419T234756Z
DTSTART:20160521T150000Z
SEQUENCE:0
TRANSP:OPAQUE
END:VEVENT
END:VCALENDAR