BEGIN:VCALENDAR
VERSION:2.0
PRODID:-//jEvents 2.0 for Joomla//EN
CALSCALE:GREGORIAN
METHOD:PUBLISH
BEGIN:VEVENT
UID:cc6439c3256725e56e1e4ccf7943a1a8
CATEGORIES:Default
SUMMARY:Devītais sadancis "Jādejo, lai būtu prieks"
LOCATION:Carnikavas tautas nams "Ozolaine" 
DESCRIPTION;ENCODING=QUOTED-PRINTABLE: 2. februārī plkst. 18. 00 Carnikavas tautas namā "Ozolaine" jau devīto rei
 zi videjās paaudzes deju kolektīvs "Arnika" aicina draugus un skatītājus uz
  kopēju sadanci "Jādejo, lai būtu prieks".\n\nSadancī piedalās TDA "Svīta" 
 (Tukums), VPDK "Vidums", JDK un VPDK "Dancītis", VPDK "Mēmele", VPDK "Lāčpl
 ēsis", SDK "Tacis" un pasākuma saimnieki - VPDK "Arnika".  
CONTACT:Jūras ielā 1A
DTSTAMP:20260419T163656Z
DTSTART:20190202T180000Z
DTEND:20190202T203000Z
SEQUENCE:0
TRANSP:OPAQUE
END:VEVENT
END:VCALENDAR