BEGIN:VCALENDAR
VERSION:2.0
PRODID:-//jEvents 2.0 for Joomla//EN
CALSCALE:GREGORIAN
METHOD:PUBLISH
BEGIN:VEVENT
UID:9e6c8ede938158774579b19947125845
CATEGORIES:Default
SUMMARY:Improvizācijas teātra "PLIT" izrāde
LOCATION:Carnikavas tautas nams "Ozolaine" 
DESCRIPTION;ENCODING=QUOTED-PRINTABLE:\n\n\n24. februārī plkst. 18.00 izrāde improvizācijas teātra "PLIT" izrāde 
 Carnikavas tautas namā "Ozolaine".\nIeeja par ziedojumiem novadniekiem, dau
 dzbērnu ģimenēm, kam nepieciešams atbalsts.\n
CONTACT:Jūras ielā 1A
DTSTAMP:20260419T163748Z
DTSTART:20190224T180000Z
DTEND:20190224T200000Z
SEQUENCE:0
TRANSP:OPAQUE
END:VEVENT
END:VCALENDAR