BEGIN:VCALENDAR
VERSION:2.0
PRODID:-//jEvents 2.0 for Joomla//EN
CALSCALE:GREGORIAN
METHOD:PUBLISH
BEGIN:VEVENT
UID:565a22e331c8e9b0f8ff677dde38f3aa
CATEGORIES:Default
SUMMARY:Muzikāla deju izrāde "Čigānmeitēns Ringla"
LOCATION:Carnikavas tautas nams "Ozolaine" 
DESCRIPTION;ENCODING=QUOTED-PRINTABLE:\n\n\nDK "Dālderītis" un "Abi Divi" muzikālā deju izrādē "Čigānmeitēns Ring
 la". Iestudējuma autori: Anita un Jānis Precinieki.Ieeja bez maksas
CONTACT:Jūras ielā 1A
DTSTAMP:20260421T102235Z
DTSTART:20190307T190000Z
DTEND:20190307T210000Z
SEQUENCE:0
TRANSP:OPAQUE
END:VEVENT
END:VCALENDAR