BEGIN:VCALENDAR
VERSION:2.0
PRODID:-//jEvents 2.0 for Joomla//EN
CALSCALE:GREGORIAN
METHOD:PUBLISH
BEGIN:VEVENT
UID:8d0614c4db0bf710e3ebae1855acb582
CATEGORIES:Default
SUMMARY:Leona Kuzminska  grāmatas
LOCATION:Carnikavas tautas nams "Ozolaine" 
DESCRIPTION;ENCODING=QUOTED-PRINTABLE:\n\n\nCarnikavas novada Politiski represēto kluba biedru sarīkojums un nova
 dnieka Leona Kuzminska grāmatas "Atmiņas par izsūtījumu Sibīrijā" atvēršana
 .Ieeja bez maksas.
CONTACT:Jūras ielā 1A
DTSTAMP:20260421T102134Z
DTSTART:20190322T130000Z
DTEND:20190322T143000Z
SEQUENCE:0
TRANSP:OPAQUE
END:VEVENT
END:VCALENDAR