BEGIN:VCALENDAR
VERSION:2.0
PRODID:-//jEvents 2.0 for Joomla//EN
CALSCALE:GREGORIAN
METHOD:PUBLISH
BEGIN:VEVENT
UID:a8339cadc898514c1d0e15eb3a5b7738
CATEGORIES:Default
SUMMARY:XVIII Carnikavas Nēģu svētki
LOCATION:Carnikavā
DESCRIPTION;ENCODING=QUOTED-PRINTABLE:\n\n\n\n\nAicinām visus piedzīvot un izbaudīt XVIII Carnikavas Nēģu svētkus
 . \nCarnikavas Sporta kompleksā svētku ietvaros notiks sacensības dažādos s
 porta veidos – ielu basketbolā, pludmales volejbolā, ielu florbolā, stieņa 
 spiešanā guļus, zolītē.\n\n\n \n
CONTACT:Jūras ielā 1A
DTSTAMP:20260419T152055Z
DTSTART:20190824T080000Z
DTEND:20190824T000000Z
SEQUENCE:0
TRANSP:OPAQUE
END:VEVENT
END:VCALENDAR