BEGIN:VCALENDAR
VERSION:2.0
PRODID:-//jEvents 2.0 for Joomla//EN
CALSCALE:GREGORIAN
METHOD:PUBLISH
BEGIN:VEVENT
UID:c14a480f9cad9f9b7edd1873797f274a
CATEGORIES:Default
SUMMARY:Izrāde "Preilenīte" Kalngales estrādē
LOCATION:Putnu parkā Kalngalē 
DESCRIPTION;ENCODING=QUOTED-PRINTABLE:\n\n\n31. augustā plkst. 17.00 Kalngales estrādē Putnu parkā Carnikavas ama
 tierteātris "Nagla" aicina uz savu jaunāko iestudējumu – Jukuma Paleviča jo
 ku lugu "Preilenīte".\n
CONTACT:Cīruļu ielā 8
DTSTAMP:20260419T150407Z
DTSTART:20190831T170000Z
DTEND:20190831T190000Z
SEQUENCE:0
TRANSP:OPAQUE
END:VEVENT
END:VCALENDAR