BEGIN:VCALENDAR
VERSION:2.0
PRODID:-//jEvents 2.0 for Joomla//EN
CALSCALE:GREGORIAN
METHOD:PUBLISH
BEGIN:VEVENT
UID:f5283311b0541253cb037be172cddce6
CATEGORIES:Default
SUMMARY:Pasākums CARNIKAVAS KAUJĀM 100
LOCATION:Carnikavas Novadpētniecības centrs
DESCRIPTION;ENCODING=QUOTED-PRINTABLE:\n\n\n\n\nLatvijas armija šogad svin 100. jubileju. Atceroties arī cīņas Ca
 rnikavā pirms 100 gadiem un godinot mūsu senčus, kuri cīnījās par mūsu vals
 ts Latvijas brīvību, 14. septembrī plkst. 13.00 aicinām uz pasākumu Carnika
 vas Novadpētniecības centrā CARNIKAVAS KAUJĀM 100.\n
CONTACT:Jomas iela 7, Carnikava
DTSTAMP:20260419T163748Z
DTSTART:20190914T130000Z
DTEND:20190914T150000Z
SEQUENCE:0
TRANSP:OPAQUE
END:VEVENT
END:VCALENDAR