BEGIN:VCALENDAR
VERSION:2.0
PRODID:-//jEvents 2.0 for Joomla//EN
CALSCALE:GREGORIAN
METHOD:PUBLISH
BEGIN:VEVENT
UID:56c55cacd8b2910e781401aa7ee335b4
CATEGORIES:Default
SUMMARY:Miķeļdienas pasākums “Uzziedējis rudens”
LOCATION:Carnikavas novadpētniecības centrs
DESCRIPTION;ENCODING=QUOTED-PRINTABLE:\n\n\nMiķeļu jeb rudenāju svētkos dziedāsim, iesim rotaļās un dancosim kopā
  ar tautas mūzikas grupu "Teikas muzikanti". Kopīgi vārīsim zupu, ar kuru p
 ašiem mieloties, gatavosim lukturīti rudens tumšajiem vakariem. Latvju spēk
 a zīmes skaidros tradīciju kopas "Ābols" vadītāja Inese Krūze.\nIeeja pasāk
 umā bez maksas vai par krāsainu rudens lapu.\n
CONTACT:Jomas iela 7, Carnikava
X-EXTRAINFO:Ieeja pasākumā bez maksas vai par krāsainu rudens lapu.
DTSTAMP:20260419T164632Z
DTSTART:20190928T130000Z
DTEND:20190928T150000Z
SEQUENCE:0
TRANSP:OPAQUE
END:VEVENT
END:VCALENDAR