BEGIN:VCALENDAR
VERSION:2.0
PRODID:-//jEvents 2.0 for Joomla//EN
CALSCALE:GREGORIAN
METHOD:PUBLISH
BEGIN:VEVENT
UID:191a93ecc755a22983e250f7b6604004
CATEGORIES:Default
SUMMARY:Izstādes “Saruna” atklāšana
LOCATION:Carnikavas tautas nams "Ozolaine" 
DESCRIPTION;ENCODING=QUOTED-PRINTABLE:\n\n\nCarnikavas novada tēlotājmākslas studijas un tautas lietišķās mākslas
  studijas "Auseklītis" 19.oktobrī plkst. 15.00 aicina uz izstādes "Saruna" 
 atklāšanu Carnikavas tautas namā "Ozolaine". Izstāde tautas nama lielajā zā
 lē būs apskatāma līdz šī gada 21. novembrim.\n
CONTACT:Jūras ielā 1A
DTSTAMP:20260419T150407Z
DTSTART:20191019T150000Z
DTEND:20191019T170000Z
SEQUENCE:0
TRANSP:OPAQUE
END:VEVENT
END:VCALENDAR