BEGIN:VCALENDAR
VERSION:2.0
PRODID:-//jEvents 2.0 for Joomla//EN
CALSCALE:GREGORIAN
METHOD:PUBLISH
BEGIN:VEVENT
UID:6d11875a3c6df503065ce9f9f67dd5bb
CATEGORIES:Default
SUMMARY:Filma "Jelgava 94"
LOCATION:Carnikavas tautas nams "Ozolaine" 
DESCRIPTION;ENCODING=QUOTED-PRINTABLE:\n\n \n\n\n\n\n\nFilmas stāsts risinās uz 1994. gada notikumu fona – cietum
 nieku izbēgšana Jelgavā, mūzikas ierakstu nelegālais tirgus, Kurta Kobeina 
 nāve.\nFilmas garums: 1h 26 min, ieejas maksa: 2 eiro.\n
CONTACT:Jūras ielā 1A
DTSTAMP:20260419T164632Z
DTSTART:20191101T190000Z
DTEND:20191101T203000Z
SEQUENCE:0
TRANSP:OPAQUE
END:VEVENT
END:VCALENDAR