BEGIN:VCALENDAR
VERSION:2.0
PRODID:-//jEvents 2.0 for Joomla//EN
CALSCALE:GREGORIAN
METHOD:PUBLISH
BEGIN:VEVENT
UID:efa7b2eb605774e3ccca63ae77cf39b8
CATEGORIES:Default
SUMMARY:Muzikāls šovs "Koru kari" 
LOCATION:Carnikavas tautas nams "Ozolaine" 
DESCRIPTION;ENCODING=QUOTED-PRINTABLE:\n\n\n\n\nSieviešu kora "Undīne" viesi būs Ādažu kultūras centra jauktais k
 oris  JUMIS, Latvijas Universitātes vīru koris  DZIEDONIS, Cēsu kultūras un
  Tūrisma centra jauktais koris  WENDEN, Amatas novada vīru koris CĒSIS, Rīg
 as kultūras un atpūtas centra "Imanta"  meža darbinieku vīru koris SILVICOL
 A. Sākums plkst. 16.00.\n
CONTACT:Jūras ielā 1A
DTSTAMP:20260419T193954Z
DTSTART:20200208T160000Z
DTEND:20200208T190000Z
SEQUENCE:0
TRANSP:OPAQUE
END:VEVENT
END:VCALENDAR