BEGIN:VCALENDAR
VERSION:2.0
PRODID:-//jEvents 2.0 for Joomla//EN
CALSCALE:GREGORIAN
METHOD:PUBLISH
BEGIN:VEVENT
UID:63ffd332e4f8352bcc2e2ab6e7ccdc00
CATEGORIES:Default
SUMMARY:Filma "Pilsēta pie upes" 26.05.
LOCATION:Carnikavas tautas nams "Ozolaine" 
DESCRIPTION;ENCODING=QUOTED-PRINTABLE:\n\n\nViestura Kairiša filma "Pilsēta pie upes" (Piļsāta pi upis) tautas na
 mā "Ozolaine" 26. maijā plkst. 18.00. Ieejas maksa 3 eiro.\nBiļetes iepriek
 špārdošanā tautas namā "Ozolaine" 25.maijā plkst. 16.00-19.00.\n
CONTACT:Jūras ielā 1A
DTSTAMP:20260419T150408Z
DTSTART:20200526T180000Z
DTEND:20200526T200000Z
SEQUENCE:0
TRANSP:OPAQUE
END:VEVENT
END:VCALENDAR