BEGIN:VCALENDAR
VERSION:2.0
PRODID:-//jEvents 2.0 for Joomla//EN
CALSCALE:GREGORIAN
METHOD:PUBLISH
BEGIN:VEVENT
UID:895eef79a334881c5a1ecbab0cdef663
CATEGORIES:Default
SUMMARY:Muzikālais pikniks
LOCATION:Carnikavas Novadpētniecības centrs
DESCRIPTION;ENCODING=QUOTED-PRINTABLE:\n\n\n\n\n \n\n\nTiekamies 8.jūlijā plkst.19:00 pie Carnikavas Novadpētniec
 ības centra, kur baudīsim Jāņa Stībeļa akustiskās koncertprogrammas koncert
 u.\n\nPasākuma apmeklētāji ir aicināti līdzi ņemt savus sēžamos un piknika 
 grozus.\n
CONTACT:Jomas iela 7
DTSTAMP:20260419T150407Z
DTSTART:20200708T190000Z
DTEND:20200708T200000Z
SEQUENCE:0
TRANSP:OPAQUE
END:VEVENT
END:VCALENDAR