BEGIN:VCALENDAR
VERSION:2.0
PRODID:-//jEvents 2.0 for Joomla//EN
CALSCALE:GREGORIAN
METHOD:PUBLISH
BEGIN:VEVENT
UID:92a2cd19ffe64ba80bee8bd4bacb290d
CATEGORIES:Default
SUMMARY:Piedalies Prāta spēlēs Carnikavā!
LOCATION:Carnikavas tautas nams "Ozolaine"
DESCRIPTION;ENCODING=QUOTED-PRINTABLE:\n\n\n\n\nPrāta spēles Latvijas kauss apceļo Latviju jau trešo reizi un aic
 ina uz spēli 3.oktobrī plkst.12.00 tautas namā "Ozolaine". Tas ir izklaidēj
 ošs komandu erudīcijas turnīrs. Savu komandu veidot un piedalīties var jebk
 urš.\nDalība bez maksas.\nPiesakies mājaslapā ŠEIT.\n\n
CONTACT:Jūras ielā 1A
DTSTAMP:20260419T164715Z
DTSTART:20201003T120000Z
SEQUENCE:0
TRANSP:OPAQUE
END:VEVENT
END:VCALENDAR