BEGIN:VCALENDAR
VERSION:2.0
PRODID:-//jEvents 2.0 for Joomla//EN
CALSCALE:GREGORIAN
METHOD:PUBLISH
BEGIN:VEVENT
UID:a1ec98361e1893d717a78c29f10c464e
CATEGORIES:Default
SUMMARY:Pavadi svētkus dabā piedaloties spēlē par Carnikavas novadu
LOCATION:Carnikavas tautas nams "Ozolaine"
DESCRIPTION;ENCODING=QUOTED-PRINTABLE:\n\n\n\n\nŠogad svētku laikā esam sarūpējuši dāvanu Carnikavas novada iedzī
 votājiem mazliet neierastā, bet aizraujošā formā. Tā ir cilpošanas spēle, k
 as sniedz iespēju baudīt aktīvu atpūtu kopā ar saviem tuvākajiem. Spēli var
  spēlēt jebkurā vietā un jebkurā laikā no 25. līdz 27.decembrim. Izvēlies m
 aršrutu, met pastaigu cilpas un vienlaikus atbildi uz jautājumu cilpām gan 
 par Ziemassvētkiem, gan Carnikavas novadu.\n\n•Lai uzzinātu vairāk par to, 
 kā spēlēt cilpošanas spēli, iesakām noskatīties instrukciju: ŠEIT\n•Spēles 
 kods tiks publicēts Carnikavas novada tautas nama "Ozolaine" sociālā tīkla 
 "Facebook" lapā 25.12.2020. plkst.9:00.\n
CONTACT:Jūras ielā 1A
DTSTAMP:20260419T214350Z
DTSTART:20201225T090000Z
SEQUENCE:0
TRANSP:OPAQUE
END:VEVENT
END:VCALENDAR