BEGIN:VCALENDAR
VERSION:2.0
PRODID:-//jEvents 2.0 for Joomla//EN
CALSCALE:GREGORIAN
METHOD:PUBLISH
BEGIN:VEVENT
UID:f4364298ac4c3b82fe15f04ae2155cc7
CATEGORIES:Default
SUMMARY:Lielā diena "Cēlājos"
LOCATION:Carnikavas novadpētniecības centrs
DESCRIPTION;ENCODING=QUOTED-PRINTABLE:\n\n\n\n\n19. martā jau no plkst. 13:00 ar ieskatu Saules laika skaitīšanā 
 un svētku svinēšanu plkst. 15:00 sākam sagaidīt Lielo dienu Carnikavas nova
 dpētniecības centrā. Pavasara saulgriežos diena un nakts ir viena garuma. L
 ai gaisma gūtu pārsvaru pār tumsu un daba varētu uzsākt savu ritējumu preti
 m gaismai un jaunam dzīvības ritam, tā ir jāiešūpina, jāiekustina, jāieripi
 na. Arī Carnikavas novadpētniecības centrā sagaidām Lielo dienu – ar izšūpo
 šanos pušķotās šūpolēs, raibu un rakstainu Lieldienu olu ripināšanu, putnu 
 dzīšanu, lai tie nesēž pazarēs, bet palīdz atgriezties gaismai, saulgriežu 
 uguns kuršanu un vēl daudz dažādām norisēm, kas nes jaunu prieku un jaunu g
 aismu. Aicinām pirms saulgriežu svinībām smelties iedvesmu, ielūkojoties ve
 idos, kā cilvēks var sekot līdzi Saules gaitai debesu jumā. Plkst. 13:00 uz
  sarunu par Saules laika skaitīšanu un Saules lūkotavām Latvijā un citviet 
 pasaulē aicina fiziķis un folkloras kopas “Budēļi” dalībnieks Guntars Vaiva
 rs. Plkst. 15:00 svinam pavasara saulgriežus kopā ar grupu “Lata Donga”, pa
 šmāju“Cēlājiem”, Ādažu tradīciju kopu “Ābols” un Rīgas folkloras kopu “Laiv
 a”.\n
CONTACT:29541105
DTSTAMP:20260420T032139Z
DTSTART:20160319T130000Z
SEQUENCE:0
TRANSP:OPAQUE
END:VEVENT
END:VCALENDAR