BEGIN:VCALENDAR
VERSION:2.0
PRODID:-//jEvents 2.0 for Joomla//EN
CALSCALE:GREGORIAN
METHOD:PUBLISH
BEGIN:VEVENT
UID:df71afe2d9b04dc0dd56f734aaef2c8f
CATEGORIES:Default
SUMMARY:Saule, Putni, Pavasaris
LOCATION:Carnikavas parks
DESCRIPTION;ENCODING=QUOTED-PRINTABLE:\n\n\n\n\nLieldienu pasākums visai ģimenei Carnikavas parkā\n\n27. martā no
  plkst. 12:00 līdz 15:00 \n\nCarnikavas parkā\n\n12:00 – 15:00 Konkurss “Ca
 rnikavas konditorejas gardums 2016”\n12:00 – 12:30 Konkursa gardumu prezent
 ācija\n12:30 – 13:00 Konkursa gardumu degustācija.\nDegustācijas karti varē
 s iegādāties pie konkursa telts, degustācijas kartes cena 1,00 EUR, visas k
 artes piedalās izlozē, kurā varēs laimēt konkursa žūrijas prezentbalvu!\n13
 :30 – 14:00 Konkursa un loterijas uzvarētāju paziņošana\n\nPasākuma laikā d
 arbosies dažādas atrakcijas bērniem un radošās darbnīcas: radošā darbnīca “
 Koņča” piedāvās seju apgleznošanu un citas Lieldienu aktivitātes, savukārt 
 mākslas studijas “Triepiens” darbnīcā varēs apgleznot Piejūras pamatskolas 
 audzēkņu izgatavotus koka putnus, ar kuriem vēlāk dekorēsim Carnikavas muiž
 as parka kokus! Ar stāstiem par Latvijā sastopamiem putniem iepazīstinās or
 nitologs Jānis Brikmanis. Uzstāsies bērnu deju kolektīvs “Dālderītis”\n\nTa
 utas namā “Ozolaine”\n\n17:00 Koncertuzvedums visai ģimenei “Lieldienu Zaķa
  skola”\nKopā ar Čučumuižas rūķiem mācīsimies Lieldienu darbiņus un sagaidī
 sim Lieldienu Zaķi!\n\nIeeja 2,00 EUR\nBiļetes varēs iegādāties tautas namā
  “Ozolaine” pusstundu pirms pasākuma\n
CONTACT:26378644
DTSTAMP:20260420T064002Z
DTSTART:20160327T120000Z
SEQUENCE:0
TRANSP:OPAQUE
END:VEVENT
END:VCALENDAR