BEGIN:VCALENDAR
VERSION:2.0
PRODID:-//jEvents 2.0 for Joomla//EN
CALSCALE:GREGORIAN
METHOD:PUBLISH
BEGIN:VEVENT
UID:575388aac6c62bd3dbe7204eb4a1c7ae
CATEGORIES:Default
SUMMARY:Carnikavas cālis 2016
LOCATION:Carnikavas tautas nams "Ozolaine
DESCRIPTION;ENCODING=QUOTED-PRINTABLE:\n\n\n\n\nMazo vokālistu konkurss "Carnikavas cālis 2016"\n\n28. martā taut
 as namā “Ozolaine” norisināsies Carnikavas novada mazo vokālistu konkurss “
 Carikavas cālis 2016”\n\n12:00 “Carnikavas Cālēns 2016”Konkurss bērniem vec
 uma grupā līdz 4 gadiem (ieskaitot)\n\n14:00 “Carnikavas Cālis 2016” Konkur
 ss bērniem vecuma grupā no 5-6 gadiem (ieskaitot)\n\nKatras grupas 1 laureā
 ts tiks izvirzīts Starpnovadu konkursam “Skanīgākais Cālis 2016”, kas notik
 s š.g. 3.aprīlī Salaspilī.\nKonkursa nolikums un pieteikuma anketa pieejama
  Carnikavas novada mājaslapāwww.carnikava.lv, kā arī tautas namā “Ozolaine”
 . Pieteikšanās līdz 20.martam\n
CONTACT:26378644
DTSTAMP:20260420T032139Z
DTSTART:20160328T120000Z
SEQUENCE:0
TRANSP:OPAQUE
END:VEVENT
END:VCALENDAR