BEGIN:VCALENDAR
VERSION:2.0
PRODID:-//jEvents 2.0 for Joomla//EN
CALSCALE:GREGORIAN
METHOD:PUBLISH
BEGIN:VEVENT
UID:df348d8786f6c29b2bc0b1f9ba5149aa
CATEGORIES:Default
SUMMARY: Izstāde "Stikla balss"
LOCATION:Carnikavas tautas nams "Ozolaine
DESCRIPTION;ENCODING=QUOTED-PRINTABLE:\n\n\n\n\nCarnikava ir uzsākusi gatavošanās ceļu Latvijas simtgadei, kā iet
 varos tautas namā “Ozolaine” sākot ar 2016. gada janvāri tiek atklāts trīs 
 gadu izstāžu cikls – triloģija: Latvijas matērija (2016), Latvijas gars (20
 17) un Latvijas sapņi (2018). \n\n9. janvārī tika atklāta izstāde "Stikla b
 alss". Atklāšanas dienā norisinājās radošās darbnīcas, kurās varēja iepazīt
  dažādās stikla īpašības un izpausmes.\n\nVIDEO\n\nIZSTĀŽU CIKLS - TRILOĢIJ
 A\n\nCarnikava ir uzsākusi gatavošanās ceļu Latvijas simtgadei, kā ietvaros
  tautas namā “Ozolaine” sākot ar 2016. gada janvāri tiek atklāts trīs gadu 
 izstāžu cikls – triloģija: Latvijas matērija (2016), Latvijas gars (2017) u
 n Latvijas sapņi (2018). \n\nIzstāžu cikla laikā ir iespēja iepazīt un pies
 karties Latvijā radītām materiālām un nemateriālām vērtībām, kā arī kopīgi 
 iezīmēt nākotnes vīzijas un sapņus.\n\nKatra triloģijas daļa ir sadalīta as
 toņos posmos, veltot katru posmu savam materiālam vai tēmai. Katra tēma tie
 k atklāta ar radošo darbnīcu dienu, kuras laikā var praktiski darboties ar 
 tēmas materiālu.\n\nPirmais cikla posms – Latvijas matērija ļauj neierastā 
 veidā iepazīt materiālus, kas ir pieejami Latvijas dzīlēs, iegūstami, pārst
 rādājot tās izaudzētās vai radītās matērijas. Izstādes atklāšanu ievada rad
 ošā darbnīca un iepazīšanās ar materiālu.\n\nOtrais cikla posms – Latvijas 
 gars ieved nemateriālo vērtību pasaulē – mūzika, dzeja, literatūra, deja, s
 imbolu koncepcijas. Izstāžu tematiskie loki tiek papildināti ar multimediāl
 iem projektiem, koncertiem, dzejas lasījumiem. \n\nTrešais, noslēdzošais po
 sms – Latvijas sapņi ļauj skatītājiem kļūt par izstādes un kopējās nākotnes
  veidotājiem, meklē saskares punktus ar mūsdienu inovatīvajām tehnoloģijām,
  ļaujot ielūkoties tālāk par ierasto un zināmo. Izstāžu tematiskie loki tie
 k papildināti ar tehniskās jaunrades eksperimentiem, multimediāliem projekt
 iem, izglītojošām akcijām, kopīgi radītām mākslas vērtībām un nākotnes vīzi
 jām.\n\nVisu trīs gadu laikā tautas nama radošais kolektīvs, mākslinieki un
  pieaicinātie darbnīcu vadītāji cer uz vietējo un apkārtējo novadu iedzīvot
 āju atsaucību un iesaisti radošajās darbnīcās, mākslas akcijās u.c. aktivit
 ātēs.  Mēs kopīgi varam ieapzīt savas zemes glabāto materiālo un garīgo vēr
 tību klāstu, varam izpaust savas ieceres, veidot saistošu un atraktīvu kult
 ūras telpu Carnikavā, kas būs nenovērtējama dāvana gan Latvijai, gan pašiem
  sev simtgades svinībās.\n\n\nLATVIJAS MATĒRIJA\n\nPirmā cikla posms – Latv
 ijas matērija apskata 8 matērijas: Stikls, papīrs, āda, māls, koks, audums,
  akmens un metāls. Katram materiālam tiek veltīta 1 mākslinieka izstāde vai
  tematiska ekspozīcija.  Izstādi ievada  radošo darbnīcu diena, kas ļauj pr
 aktiski iepazīties ar materiālu un sniedz izpratni par tā iespējām, izcelsm
 i un attīstības vēsturi Latvijā, kā arī ļauj to izjust, saklausīt un iepazī
 t tā prakstiskās īpašības. \n\nSTIKLA DIENA\n\n9.janvārī norisinājās pirmā 
 cikla radošā darbnīcu diena, veltīta stiklam. Tika atklāta mākslinieces Kri
 stīnas Sunepas-Celmiņas un Bārbalas Gulbes darbu izstāde, kā arī iepazinām 
 stiklu kā materiālu, kas spēj būt gan plūstošs un mainīgs, gan rotaļīgs un 
 skanīgs, gan arī šķietami ass, bet tomēr cauri visai stikla kontrastainajai
  dažādībai - materiāls, ar kuru var rast saistošu komunikāciju un veidot br
 īnišķīgus mākslas priekšmetus. Stikla dienas apmeklētāji varēja veidot paši
  savus “laimes akmentiņus” no stikla (vada Bārbala Gulbe), iepazīt dažādas 
 stikla apstrādes tehnikas (darbnīcas vadīja Kristīna Sunepa-Celmiņa – mūsdi
 enu stikla mozaīkas, Aija Klinsone – stikla gravēšana, Andrejs Virbulis – s
 tikla pūšana) un iegūt pieredzi par citām stikla izpausmēm (ar stikla glāzē
 m spēlēja Linda Mangule), kā arī pārbaudīt sevi caur stikla spēku (staigāša
 na pa stiklu – Baiba Kļava-Vecvanaga)\n\n\n \n
CONTACT:29541105
DTSTAMP:20260420T065917Z
DTSTART:20160109T140000Z
SEQUENCE:0
TRANSP:OPAQUE
END:VEVENT
END:VCALENDAR