BEGIN:VCALENDAR
VERSION:2.0
PRODID:-//jEvents 2.0 for Joomla//EN
CALSCALE:GREGORIAN
METHOD:PUBLISH
BEGIN:VEVENT
UID:26b0a60ab64f5f59da8d6b22e7539fb2
CATEGORIES:Default
SUMMARY:"Satiec savu meistaru" Carnikavā
LOCATION:Carnikavas tautas nams "Ozolaine
DESCRIPTION;ENCODING=QUOTED-PRINTABLE:\n\n\n\n\nLekcija – prezentācija “Vidzemes šatiera segas – vēsture, tradīci
 jas, mūsdienas”\n\n\n2009. gadā aizsākās Tradicionālo prasmju skola, kas tu
 rpinājās kā akcija „Satiec savu meistaru!”, tā, savukārt, ir iekļauta kopīg
 ā Eiropas projektā „Eiropas amatu prasmju dienas”. Nemateriālā kultūras man
 tojuma saglabāšanas pasākums „Satiec savu meistaru” 2016. gadā no 1. līdz 3
 . aprīlim notiks jau astoto reizi.\n\n Arī Carnikavas TLMS “Auseklītis” vad
 ītāja Zane Ulmane kopā ar studijas dalībniekiem ir pieteikusi dalību meista
 ru dienās un 2. aprīlī no plkst. 13:00 līdz 15:00 piedāvā visiem interesent
 iem iepazīt Vidzemes šatiera segu raksturīgās iezīmes, kā arī pašiem iemēģi
 nāt roku šatiera parauga veidošanā. \nLekcijas vēsturiskā daļa pamatota Lat
 vijas etnogrāfiskā brīvdabas muzeja un Pieminekļu valdes fondu un arhīvu ma
 teriālos. Praktiskā nodarbība - individuāla šatieru paraugu veidošana ar uz
 tinumu palīdzību no dažādām dzijām. Materiāli tiks sagādāti.Norises vieta: 
 Carnikavas tautas namā “Ozolaine”, Jūras ielā 1a\nVietu skaits ir ierobežot
 s – 50 interesenti, tāpēc lūgums laikus pieteikt savu dalību meistardarbnīc
 ā, zvanot: 29545201, Zane Ulmane, vai rakstot: \nemailProtector.addCloakedM
 ailto("ep_a0304c84", 1);Ieeja bez maksas
CONTACT:29545201
DTSTAMP:20260420T011850Z
DTSTART:20160402T130000Z
DTEND:20160402T150000Z
SEQUENCE:0
TRANSP:OPAQUE
END:VEVENT
END:VCALENDAR