BEGIN:VCALENDAR
VERSION:2.0
PRODID:-//jEvents 2.0 for Joomla//EN
CALSCALE:GREGORIAN
METHOD:PUBLISH
BEGIN:VEVENT
UID:3343b11b75f300ae47d9bccf4b96d023
CATEGORIES:Default
SUMMARY:Filma "Astoņas zvaigznes"
LOCATION:Carnikavas tautas nams "Ozolaine"
DESCRIPTION;ENCODING=QUOTED-PRINTABLE:\n\n\n\n\n5. janvārī plkst. 19:00 Carnikavas tautas namā "Ozoaline" dokumen
 tālā filma par latviešu strēlniekiem "Astoņas zvaigznes".\n\nFilma ir par l
 atviešu nācijas pašapzināšanās procesa spilgtāko un traģiskāko parādību – l
 atviešu strēlniekiem.\n\nPirmais Daugavgrīvas, otrais Rīgas, trešais Kurzem
 es, ceturtais Vidzemes, piektais Zemgales, sestais Tukuma, septītais Bauska
 s un astotais Valmieras latviešu strēlnieku bataljons – tā ir Latvija vēl p
 irms Latvijas. Vēsturiski hronoloģisks pētījums, kas aptver laiku no strēln
 ieku bataljonu organizēšanās un pirmajām kaujām līdz Krievijas pilsoņu kara
  beigām, kad liela daļa strēlnieku atgriezās nesen dibinātajā Latvijas vals
 tī. Mājās.\n\nStāsts par vienkāršiem cilvēkiem, kurus izaicināja Liels Laik
 mets un, neprasot atļauju, noteica viņu dzīves robežas.\n\nGarums: 100 min.
 \nScenārija autori: Dainis Īvāns, Askolds Saulītis\nRežisors: Askolds Saulī
 tis\nOperators: Andrejs Verhoustinskis\nKomponists un skaņu režisors: Jānis
  Brunovskis\n\nIeejs biļete 2 EUR\n
CONTACT:29541105
DTSTAMP:20260420T091708Z
DTSTART:20180105T190000Z
DTEND:20180105T204000Z
SEQUENCE:0
TRANSP:OPAQUE
END:VEVENT
END:VCALENDAR