BEGIN:VCALENDAR
VERSION:2.0
PRODID:-//jEvents 2.0 for Joomla//EN
CALSCALE:GREGORIAN
METHOD:PUBLISH
BEGIN:VEVENT
UID:35a49705e5eba071099656e7a7239237
CATEGORIES:Default
SUMMARY:Izstādes "Jutīga āda" atklāšana
LOCATION:Carnikavas tautas nams "Ozolaine"
DESCRIPTION;ENCODING=QUOTED-PRINTABLE:\n\n\n\n\n16. aprīlī plkst. 15:00 Carnikavas tautas namā „Ozolaine” tiks at
 klāta trešā izstāžu cikla „Latvijas matērija” izstāde „Jutīga āda”. Izstāžu
  cikls ir veltījums Latvijas valsts simtgadei un apskata dažādas Latvijas m
 atērijas no neierastiem skatu punktiem.\n\n Nākamā aktuālā cikla tēma ir ād
 a, kas paver plašas interpretācijas iespējas un ir viennozīmīgi būtiska mat
 ērija, jo sastāda arī daļu no mums pašiem. \n\n Tekstilmākslinieks Pēteris 
 Sidars izstādes tēmai piedāvā čūskādu ciklu. Čūskādas vietām caurvijās ar s
 malki mežģīnotu apkšveļu, atklājot dabas un cilvēka vēlmi reizi pa reizi, u
 n jo īpaši pavasara laikā, nomest lieko ādu un ļauties atjaunotnei. \n\n At
 klāšanas diena, kā ierasts, būs radošu piedzīvojumu un izziņu pilna. No plk
 st. 15:00 Carnikavas tautas namā “Ozolaine” varēs ieklausīties Pētera Sidar
 a vēstījumā par savu daiļradi un ielūkoties gadiem uzkrātajā pieredzē par d
 ažādu materiālu piedāvātajām iespējām mākslā. Folkloras kopa “Delve” iegrim
 s mītu un nostāstu pasaulē,  ļaujot sajust čūsku mitoloģisko nozīmi senajās
  teiksmās. “Ādas artelis” no Siguldas līdzēs izgatavot īpašu ādas aproci, b
 et “sajust Latviju uz savas ādas” varēs, veidojot latviskas zīmes vai ornam
 enta tetovējumu ar hennu. Noslēgumā ritma grupa “Pulsa efekts” piedāvās per
 formanci un atvērto perkusiju darbnīcu, kurā varēs iesaistīties ik viens iz
 stādes apmeklētājs.\n\n Āda skan arī sasitot plaukstas… Iepazīstam Latvijas
  matērijas kopā!\n
CONTACT:29541105
DTSTAMP:20260420T011850Z
DTSTART:20160416T150000Z
SEQUENCE:0
TRANSP:OPAQUE
END:VEVENT
END:VCALENDAR