BEGIN:VCALENDAR
VERSION:2.0
PRODID:-//jEvents 2.0 for Joomla//EN
CALSCALE:GREGORIAN
METHOD:PUBLISH
BEGIN:VEVENT
UID:466530192af94d7d2ee9503260997471
CATEGORIES:Default
SUMMARY:Mākslas dienu akcijas "Ķer mākslu Carnikavā" atklāšana
LOCATION:Carnikavas dzelzceļa stacija
DESCRIPTION;ENCODING=QUOTED-PRINTABLE:\n\n\n\n\nMĀKSLA IZIET CARNIKAVAS IELĀS\n\n No 16. līdz 30. aprīlim Carnika
 vas novadā norisināsies mākslas dienām veltīta akcija „Ķer mākslu Carnikavā
 ”, kuras laikā būs iespējams iepazīt gan Carnikavas novadu, gan arī novadā 
 dzīvojošo mākslinieku daiļradi. Atklāšanas dienā 16. aprīlī plkst.14:21 Car
 nikavas stacijā ieradīsies mākslas vilciens, kas atvedīs akcijas viesmāksli
 nieku un izstāžu cikla „Jutīga āda” autoru Pēteri Sidaru. \n\n Pirmo gadu C
 arnikava ir uzdrošinājusies mākslu padarīt atvērtāku un pieejamāku visiem i
 edzīvotājiem, novada viesiem un apceļotājiem, kā arī vienkāršiem garāmgājēj
 iem. Māksla būs apskatāma veikalu, valsts iestāžu, skolu, kafejnīcu, kiosku
  un citu publisko ēku skatlogos, dzelzceļa stacijās un vasaras restorānos. 
 Katrs, kas vēlas piedalīties akcijā, saņems mākslas eksponātu karti ar norā
 dēm. Tie, kas apceļos visus norādītos punktus un izveidos attēlu galeriju, 
 ko ievietos Facebook sociālajā tīklā ar mirkļbirku #kermakslucarnikava, pie
 dalīsies izlozē, lai saņemtu īpašas novada sarūpētas balvas. \n\n Akcijas u
 n mākslas dienu atklāšana norisināsies 16. aprīlī, kad 14:21 Carnikavas sta
 cijā piestās mākslas vilciens, kas atvedīs mūsdienu mākslas lokomotīvi Pēte
 ri Sidaru. Ceļā no Rīgas uz Carnikavu (vilciens no Rīgas atiet 13:42) viņu 
 pavadīs ritma grupa “Pulsa efekts”, bet laukumā pie dzelzceļa stacijas Carn
 ikavā norisināsies svinīgā mākslas dienu atklāšana. \n\n Pēc mākslas dienu 
 atklāšanas plkst. 15:00 Carnikavas tautas namā „Ozolaine” tiks atklāta treš
 ā Latvijas valsts simtgadei veltītā izstāžu cikla „Latvijas matērija” izstā
 de „Jutīga āda”. \n\n Pēteris Sidars izstādes tēmai piedāvā čūskādu ciklu. 
 Atklāšanas dienā varēs uzklausīt mākslinieka vēstījumu par savu mākslu un i
 elūkoties darbu tapšanas aizkulisēs, bet radošo darbnīcu diena ļaus iepazīt
  ĀDU kā vienu no Latvijas matērijām. Darbosies ādas darinājumu darbnīca, ri
 tma grupa „Pulsa efekts” sniegs ieskatu ādas skanējumā, bet folkloras kopa 
 „Delve” vēstīs par čūskas mitoloģisko nozīmi latviešu folklorā, kā arī katr
 s apmeklētājs varēs izjust Latviju pats uz savas ādas, veidojot hennas teto
 vējumu.\n
CONTACT:29541105
DTSTAMP:20260420T011929Z
DTSTART:20160416T142100Z
SEQUENCE:0
TRANSP:OPAQUE
END:VEVENT
END:VCALENDAR