BEGIN:VCALENDAR
VERSION:2.0
PRODID:-//jEvents 2.0 for Joomla//EN
CALSCALE:GREGORIAN
METHOD:PUBLISH
BEGIN:VEVENT
UID:27a5a7d6530d6be3ee31e68934276b7a
CATEGORIES:Default
SUMMARY:LIELĀ TALKA
LOCATION:Kempings "Gauja", Carnikavas tautas nams "Ozolaine"
DESCRIPTION;ENCODING=QUOTED-PRINTABLE:\n\n 23.aprīlī 09:00-14:00 Lielā Talka kopā ar improvizācijas teātri PLIT k
 empingā “Gauja”\n\n\n\n Talkas laikā plānots atbrīvot kempinga telpas no ve
 cajām mēbelēm u.c. sadzīves lietām. Iespējama saskarsme ar putekļiem, tāpēc
  aicinām ņemt līdzi respiratorus un maiņas drēbes.\nPlašāka informācija pie
  Lielās Talkas koordinatores Gunitas Dzenes (t.20232044, e-pasts: emailProt
 ector.addCloakedMailto("ep_34116dbf", 1);)\n23. aprīlī no plkst. 10:00 Liel
 ā Talka Dzejnieku skvēriņā!\n\nCarnikavas novada domes Izglītības un kultūr
 as nodaļa un tautas nams "Ozolaine" aicina talkot Dzejnieku skvēriņā (O.Vāc
 ieša un L.Azarovas ielu krustojumā) Carnikavā.\nDzejnieku skvēriņa zaļo zon
 u plānots attīrīt no lapām, lai nākotnē tur varētu veidot skaistu pastaigu 
 un atpūtas vietu ar soliņiem, O.Vācieša un L.Azarovas dzejas rindām u.c. vi
 des objektiem.\n\nLūgums līdzi ņemt savus darba rīkus. Cimdi, maisi un talk
 as cienasts būs sarūpēts!\nPiesakieties iepriekš: 29541105 vai 29443425, Ag
 nija\n\n  18:00” Teātra studija “Nagla” aicina visus talkotājus uz izrādi “
 Bingo” tautas namā “Ozolaine”\nŠajā sezonā t/n “Ozolaine” amatierteātris “N
 AGLA” piedāvā jaunu izrādi “BINGO”, kas veidota pēc populārā amerikāņu dram
 aturga Džona Patrika lugas “Dīvainā misis Sevidža” motīviem. Luga radīta pa
 gājušā gadsimta 60-tajos gados, tajā autors akcentējis tolaik progresīvi do
 mājošās sabiedrības daļā uzvirmojušo tendenci – atmaskot kapitālistiskajā p
 asaulē valdošās morāles liekulību. Luga guva plašu ievērību ne tikai ASV un
  Eiropā, bet arī sociālisma zemēs, jo autora doma – kapitālistiskā sistēma 
 ir satrunējusi. Tas bija pateicīgs materiāls šeit valdošajai ideoloģijai, k
 ura akcentēja domu – cilvēks cilvēkam ir brālis, draugs un biedrs...\n Taga
 d paši esam šajās kapitālistiskajās attiecībās un varam uz šīs lugas materi
 ālu paraudzīties ar redzīgāku skatienu un nelielu veselīgas ironijas piedev
 u. Kā mums tas izdevies, pavērojiet paši!\n\n Izrādes režisors Zigurds Neim
 anis.\n\n
CONTACT:20232044
DTSTAMP:20260420T011850Z
DTSTART:20160423T090000Z
DTEND:20160423T140000Z
SEQUENCE:0
TRANSP:OPAQUE
END:VEVENT
END:VCALENDAR