BEGIN:VCALENDAR
VERSION:2.0
PRODID:-//jEvents 2.0 for Joomla//EN
CALSCALE:GREGORIAN
METHOD:PUBLISH
BEGIN:VEVENT
UID:e7e1bdd84920ee9a1db26d2cacc78794
CATEGORIES:Default
SUMMARY:Ūsiņdiena Carnikavas novadpētniecības centrā
LOCATION:Carnikavas Novadpētniecības centrs
DESCRIPTION;ENCODING=QUOTED-PRINTABLE:\n\n\n\n\n7. maijā plkst. 12:00 Ādažos Līgo laukumā un plkst. 17:00 Carnika
 vas novadpētniecības centrā Ūsiņa spēka daudzinājums\n\n\nAicinām visus uz 
 Ūsiņa spēka daudzinājumu 7.maijā pa dienu Ādažos un vakarpusē Carnikavas no
 vadpētniecības centrā.plkst.12.00 Ādažos Līgo laukumā tiks daudzināts vīru 
 un dzīvības spēks.plkst. 17.00 Carnikavas novadpētniecības centrā daudzinās
 im Gaismas spēku un vērsim vārtus vasarai!\n
CONTACT:29541105
DTSTAMP:20260420T091539Z
DTSTART:20160507T170000Z
SEQUENCE:0
TRANSP:OPAQUE
END:VEVENT
END:VCALENDAR