BEGIN:VCALENDAR
VERSION:2.0
PRODID:-//jEvents 2.0 for Joomla//EN
CALSCALE:GREGORIAN
METHOD:PUBLISH
BEGIN:VEVENT
UID:379dab8d580294d95f189887aa95f37c
CATEGORIES:Default
SUMMARY:Izstādes "Zemes māls" atklāšana
LOCATION:Carnikavas tautas nams "Ozolaine"
DESCRIPTION;ENCODING=QUOTED-PRINTABLE:\n\n\n14. maijā plkst. 14:00 tiks atklāta ceturtā izstāžu cikla „Latvijas m
 atērija” izstāde „Zemes māls”\n Carnikavas tautas namā „Ozolaine”, Jūras ie
 lā 1a\n\nCarnikavā, sagaidot Latvijas valsts simtgadi, tiek veidots trīs ga
 du izstāžu cikls. 2016. gadā iepazīstam Latvijas matēriju, 2017. gadā – Lat
 vijas garu, bet 2018. – kopīgi izsapņosim Latvijas sapņus. Šogad esam jau i
 epazinuši trīs Latvijas matērijas – stiklu, papīru un ādu. Katra izstāde ti
 ek atklāta ar radošo darbnīcu dienu, kur ikvienam – gan lielam, gan mazam a
 pmeklētājam ir iespēja darboties ar tēmas matēriju, saklausīt tās skanējumu
  un iepazīt no neierasta skata punkta. 14. maijā ir pienācis “Zemes māla” l
 aiks, kad radošo darbnīcu dienā keramiķu Ingas un Mārtiņa Pērkonu vadībā bū
 s iespēja veidot māla traukus Carnikavas baltā galdauta svētkiem, vēsturnie
 ce un keramiķe Baiba Dumpe stāstīs par māla veidošanas tradīcijām Latvijas 
 teritorijā akmens un dzelzs laikmetā, Gunta Darbvare vadīs māla gleznošanas
  darbnīcu, varēs izmēģināt roku smilšu zīmējumu veidošanā, Ziedoņa Kārkliņa
  vadībā uzzināt māla dziednieciskās īpašības un ieklausīties māla podu skan
 ējumā un pašiem piedalīties perkusijas meistara Arta Gulbja vadītajā māla s
 kaņu darbnīcā. \n\n Māls ir viena no mītiskākajām Latvijas matērijām, kas k
 ā pirmviela ir piedalījusies arī Pasaules tapšanas mītā. Aicinām saskarties
  ar zemes pirmmatēriju un radīt savu - neatkārtojamu Pasaules daļu. \n\n Iz
 stāde Carnikavas tautas namā “Ozolaine” būs apskatāma līdz pat 30. jūnijam.
  Ar zemes matēriju ļaus saskarties keramiķi Mārtiņš Pērkons, Anda Poikāne, 
 Kristīne Lazdāne un Diāna Vernera, smilšu mākslinieks Elmārs Grigalnieks un
   porcelāna māksliniece Jūlija Podziņa.\n
CONTACT:29541105
DTSTAMP:20260420T091558Z
DTSTART:20160514T140000Z
SEQUENCE:0
TRANSP:OPAQUE
END:VEVENT
END:VCALENDAR