BEGIN:VCALENDAR
VERSION:2.0
PRODID:-//jEvents 2.0 for Joomla//EN
CALSCALE:GREGORIAN
METHOD:PUBLISH
BEGIN:VEVENT
UID:fb09b59ea34e111e97b1dbd7bcf8db3f
CATEGORIES:Default
SUMMARY:Animācijas filmu programma bērniem "Multenītes pavasarī" 
LOCATION:Carnikavas tautas nams "Ozolaine
DESCRIPTION;ENCODING=QUOTED-PRINTABLE:\n\n\n16.martā plkst.16:00 piedāvājam animācijas filmu programmu bērniem "M
 ultenītes pavasarī" \n\nPROGRAMMĀ:\n"Tornis", Animācijas brigāde, 2015\n"Za
 ķu lielā diena", Animācijas brigāde, 2015\n"Meža sargi", Animācijas brigāde
 , 2015\n"Spoku stunda", rež. N.Skapāns, 2014\n"Marsietis", rež. N.Skapāns, 
 2015\n"Kā lupatiņi precējās", E.Jansons, Atom art, 2014\n“Kā Lupatiņi būvēj
 a māju”, 2015\n“Kā Lupatiņi veseļojās” , 2015\n“Kā Lupatiņi slēpās” , 2015\
 n“Kā Lupatiņi kārtoja māju”, 2015\n"Zīļuks", ANIMĀCIJAS BRIGĀDE, 2010\n"Sār
 tulis", ANIMĀCIJAS BRIGĀDE, 2014\n\nIeeja bez maksas
CONTACT:26378644
DTSTAMP:20260420T032206Z
DTSTART:20160316T160000Z
SEQUENCE:0
TRANSP:OPAQUE
END:VEVENT
END:VCALENDAR