BEGIN:VCALENDAR
VERSION:2.0
PRODID:-//jEvents 2.0 for Joomla//EN
CALSCALE:GREGORIAN
METHOD:PUBLISH
BEGIN:VEVENT
UID:935dea7a4a1e95469cad00e52464ad1f
CATEGORIES:Default
SUMMARY:LR neatkarības atjaunošanai veltīts koncerts
LOCATION:Carnikavas tautas nams "Ozolaine"
DESCRIPTION;ENCODING=QUOTED-PRINTABLE:\n\n\n\n\n6. maijā plkst. 18:00 Carnikavas mūzikas un mākslas skolas LR nea
 tkarības atjaunošanai veltīts svētku koncerts\nCarnikavas tautas namā „Ozol
 aine”\n\n\nIeeja bez maksas\n
CONTACT:29541105
DTSTAMP:20260420T091708Z
DTSTART:20160506T180000Z
SEQUENCE:0
TRANSP:OPAQUE
END:VEVENT
END:VCALENDAR