BEGIN:VCALENDAR
VERSION:2.0
PRODID:-//jEvents 2.0 for Joomla//EN
CALSCALE:GREGORIAN
METHOD:PUBLISH
BEGIN:VEVENT
UID:52f146c793b501b9db2ddca88b9afc0f
CATEGORIES:Default
SUMMARY:O.Vācieša prēmiju dzejā pasniegšana
LOCATION:Carnikavas tautas nams "Ozolaine" 
DESCRIPTION;ENCODING=QUOTED-PRINTABLE:\n\n\n13. novembrī, tieši dzejnieka Ojāra Vācieša 86. dzimšanas dienā, Carn
 ikavas tautas namā "Ozolaine" jau 17. reizi tiks pasniegta Ojāra Vācieša li
 terārā prēmija dzejā. Svinīgā notikuma sākums tautas namā pulksten 19.00.\n
CONTACT:Jūras ielā 1A
DTSTAMP:20260424T185050Z
DTSTART:20191113T190000Z
DTEND:20191113T210000Z
SEQUENCE:0
TRANSP:OPAQUE
END:VEVENT
END:VCALENDAR