BEGIN:VCALENDAR
VERSION:2.0
PRODID:-//jEvents 2.0 for Joomla//EN
CALSCALE:GREGORIAN
METHOD:PUBLISH
BEGIN:VEVENT
UID:29890db036e8aa59a48d31bacb89356a
CATEGORIES:Default
SUMMARY:Filma “Dvēseseļu putenis” 
LOCATION:Carnikavas tautas nams "Ozolaine" 
DESCRIPTION;ENCODING=QUOTED-PRINTABLE:\n\n\nFilmas "Dvēseseļu putenis" bezmaksas seansu tautas namā "Ozolaine" pl
 kst. 15.00.\n
CONTACT:Jūras ielā 1A
DTSTAMP:20260424T185102Z
DTSTART:20191118T150000Z
SEQUENCE:0
TRANSP:OPAQUE
END:VEVENT
END:VCALENDAR