BEGIN:VCALENDAR
VERSION:2.0
PRODID:-//jEvents 2.0 for Joomla//EN
CALSCALE:GREGORIAN
METHOD:PUBLISH
BEGIN:VEVENT
UID:957e7a7845f93ac3129ea647d29dae50
CATEGORIES:Default
SUMMARY:Filma “Dvēseseļu putenis” 
LOCATION:Carnikavas tautas nams "Ozolaine" 
DESCRIPTION;ENCODING=QUOTED-PRINTABLE:\n\n\n29. novembrī filmas "Dvēseseļu putenis" seanss plkst. 19.00.  tautas 
 namā "Ozolaine".\n
CONTACT:Jūras ielā 1A
DTSTAMP:20260424T185102Z
DTSTART:20191129T190000Z
SEQUENCE:0
TRANSP:OPAQUE
END:VEVENT
END:VCALENDAR