BEGIN:VCALENDAR
VERSION:2.0
PRODID:-//jEvents 2.0 for Joomla//EN
CALSCALE:GREGORIAN
METHOD:PUBLISH
BEGIN:VEVENT
UID:13d4bab13eda926d32dbf8d307c73a86
CATEGORIES:Default
SUMMARY:Egles iedegšana Carnikavā
LOCATION:Carnikavas tautas nams "Ozolaine" 
DESCRIPTION;ENCODING=QUOTED-PRINTABLE:\n\n\nŠī gada 1. decembrī aicinām uz svētku egles iedegšanu Carnikavas cent
 rā. Plkst. 16.00 pie tautas nama "Ozolaine" uzstāsies bērnu deju kolektīvs 
 "Dālderītis" un jauniešu deju kolektīvs "Abi divi"". Pēc koncerta egles ied
 egšana, cienāšanās ar tēju un piparkūkām.\n
CONTACT:Jūras ielā 1A
DTSTAMP:20260424T150507Z
DTSTART:20191201T160000Z
DTEND:20191201T173000Z
SEQUENCE:0
TRANSP:OPAQUE
END:VEVENT
END:VCALENDAR