BEGIN:VCALENDAR
VERSION:2.0
PRODID:-//jEvents 2.0 for Joomla//EN
CALSCALE:GREGORIAN
METHOD:PUBLISH
BEGIN:VEVENT
UID:35b67adf5f74cba6d5a45cf0c435c769
CATEGORIES:Default
SUMMARY: Ziemassvētku koncertprogramma “Mīlestība ir tuvu jau”
LOCATION:Carnikavas tautas nams "Ozolaine" 
DESCRIPTION;ENCODING=QUOTED-PRINTABLE:\n\n\n\n\nZiemassvētku koncertprogramma "Mīlestība ir tuvu jau" apvieno trī
 s izcilu komponistu – Mārtiņa Brauna, Imanta Kalniņa un Jāņa Lūsēna – mūzik
 u. Programmā dzirdamas gan tieši Ziemassvētkiem radītas, gan arī citas šī l
 aika noskaņai atbilstošas un īpaši piemeklētas dziesmas.\nProgrammu ir izve
 idojuši četri mūziķi – Zane Gudrā, Aivars Gudrais, Jānis Lūsēns juniors un 
 Sebastians Macats. Jau minēto komponistu mūzikā skanēs Imanta Ziedoņa, Broņ
 islavas Martuževas, Kārļa Skalbes, Jāņa Poruka u.c. dzeja.\n\n\nIeeja bez m
 aksas.\n
CONTACT:Jūras ielā 1A
DTSTAMP:20260424T170545Z
DTSTART:20191220T190000Z
DTEND:20191220T203000Z
SEQUENCE:0
TRANSP:OPAQUE
END:VEVENT
END:VCALENDAR