BEGIN:VCALENDAR
VERSION:2.0
PRODID:-//jEvents 2.0 for Joomla//EN
CALSCALE:GREGORIAN
METHOD:PUBLISH
BEGIN:VEVENT
UID:2f78fef8df31b4fb73d1e8592211050d
CATEGORIES:Default
SUMMARY:Ziemassvētku balle novada senioriem
LOCATION:Carnikavas tautas nams "Ozolaine" 
DESCRIPTION;ENCODING=QUOTED-PRINTABLE:<div style="text-align: justify;">18. decembrī plkst. 13.00 tautas namā nov
 ada senioriem. Spēlēs grupa “Sestā jūdze”. Pieteikšanās dalībai Carnikavas 
 sociālajā dienestā pa tālr. 67993101.</div>
CONTACT:Jūras ielā 1A
DTSTAMP:20260424T150804Z
DTSTART:20191218T130000Z
DTEND:20191218T130000Z
SEQUENCE:0
TRANSP:OPAQUE
END:VEVENT
END:VCALENDAR