BEGIN:VCALENDAR
VERSION:2.0
PRODID:-//jEvents 2.0 for Joomla//EN
CALSCALE:GREGORIAN
METHOD:PUBLISH
BEGIN:VEVENT
UID:855eef5d39ff551578858299bd38f275
CATEGORIES:Default
SUMMARY:Zemsvētku pasākums bērniem - “Kašera Sapņu fabrika” un MUZIKĀLĀS EGLĪTES
LOCATION:Carnikavas tautas nams "Ozolaine" 
DESCRIPTION;ENCODING=QUOTED-PRINTABLE:\n\n“Kašera Sapņu fabriku” un MUZIKĀLĀS EGLĪTES\n\n\n\n28. decembrī aicina 
 uz svētku pasākumu bērniem.:\nplkst.12.00 bērniem no 2 līdz 5 gadiem;\nplks
 t.14.00 bērniem no 6 līdz 12 gadiem.\nBiļetes cena – 5 eiro (cenā ietilpst 
 saldumu paciņa un ieeja bērnam ar vienu pavadošo personu).\nBiļetes iepriek
 špārdošanā no 9. līdz 20. decembrim Carnikavas tautas namā “Ozolaine”.\nVie
 tu skaits ierobežots.\n
CONTACT:Jūras ielā 1A
DTSTAMP:20260424T170706Z
DTSTART:20191228T120000Z
DTEND:20191228T150000Z
SEQUENCE:0
TRANSP:OPAQUE
END:VEVENT
END:VCALENDAR