BEGIN:VCALENDAR
VERSION:2.0
PRODID:-//jEvents 2.0 for Joomla//EN
CALSCALE:GREGORIAN
METHOD:PUBLISH
BEGIN:VEVENT
UID:2fb2495666431d6e4cc16be68eca7354
CATEGORIES:Default
SUMMARY:Lekcija "Perfekcionisms attiecībā ar bērniem"
LOCATION:Carnikavas bibliotēka
DESCRIPTION;ENCODING=QUOTED-PRINTABLE:\n\n\nCarnikavas novada bibliotēkā 5. februārī plkst. 18.00 lekciju ciklā "
 Uzzināt, nekad nav par vēlu" būs tikšanās ar geštaltterapeiti un filozofi E
 līnu Zelčāni.\nLekcijas tēma – "Perfekcionisms attiecībā ar bērniem". Inter
 esentiem būs iespēja iegādāties lektores jauno grāmatu "Arī labas mammas dr
 īkst kļūdīties jeb kāpēc teorija ne vienmēr strādā praksē".\n
CONTACT:Jūras ielā 1A
DTSTAMP:20260424T150600Z
DTSTART:20200205T180000Z
DTEND:20200205T193000Z
SEQUENCE:0
TRANSP:OPAQUE
END:VEVENT
END:VCALENDAR