BEGIN:VCALENDAR
VERSION:2.0
PRODID:-//jEvents 2.0 for Joomla//EN
CALSCALE:GREGORIAN
METHOD:PUBLISH
BEGIN:VEVENT
UID:6dfde98654c23b094a4ecb98b57fbc58
CATEGORIES:Default
SUMMARY:Koncerts "Jādejo, lai būtu prieks"
LOCATION:Carnikavas pamatskola 
DESCRIPTION;ENCODING=QUOTED-PRINTABLE:\n\n\n10. starptautiskajā tautas deju festivāls "Jādejo, lai būtu prieks", 
 kurā Carnikavas novada VPDK "Arnika" kopā pulcēs 14 deju kolektīvus no Latv
 ijas, gLietuvas un Igaunijas.\n
CONTACT:Nākotnes ielā 1, Carnikavā
DTSTAMP:20260424T150601Z
DTSTART:20200201T170000Z
DTEND:20200201T200000Z
SEQUENCE:0
TRANSP:OPAQUE
END:VEVENT
END:VCALENDAR