BEGIN:VCALENDAR
VERSION:2.0
PRODID:-//jEvents 2.0 for Joomla//EN
CALSCALE:GREGORIAN
METHOD:PUBLISH
BEGIN:VEVENT
UID:bf1e5f383b759c3adf2440a3f87984e6
CATEGORIES:Default
SUMMARY:Filma "Oļegs"
LOCATION:Carnikavas tautas nams "Ozolaine" 
DESCRIPTION;ENCODING=QUOTED-PRINTABLE:\n\n\n\n\nScenārija autors un režisors -Juris Kursietis, operators- Bogumil
  Godfrejow, māksliniece- Laura Dišlere, montāžas režisors- Matyas Veress.\n
 \nLomās -Valentīns Novopoļskis / Valentin Novopolskij, Dāvids Ogrodņiks / D
 awid Ogrodnik, Anna Pročņaka / Anna Próchniak, Ādams Šiškovskis / Adam Szys
 zkowski, Guna Zariņa, Edgars Samītis un citi\n\nBiļetes cena 3 eiro. Biļete
 s būs iespējams iegādāties pirms filmas seansa tautas namā "Ozolaine".\n
CONTACT:Jūras ielā 1A
DTSTAMP:20260424T150601Z
DTSTART:20200207T190000Z
DTEND:20200207T210000Z
SEQUENCE:0
TRANSP:OPAQUE
END:VEVENT
END:VCALENDAR