BEGIN:VCALENDAR
VERSION:2.0
PRODID:-//jEvents 2.0 for Joomla//EN
CALSCALE:GREGORIAN
METHOD:PUBLISH
BEGIN:VEVENT
UID:c57050548eb6e4a67913320ee009fc7f
CATEGORIES:Default
SUMMARY:Cirka izrāde - "Pasakainā planēta"
LOCATION:Carnikavas tautas nams "Ozolaine" 
DESCRIPTION;ENCODING=QUOTED-PRINTABLE:\n\n\n\n\nKoncertkompānija "Soliaris" (Lietuva) viesojas ar cirka - teātris
  izrādi "PASAKAINĀ PLANĒTA". Programmā : Sunīši, zaķis, kaķīši, čūskas, pap
 agailis... Piedalās mākslinieki no Šveices - Cirque du solleil. Ieejas cena
  pasākumā 6 eiro. Biļetes būs iespējams iegādāties pirms pasākuma Carnikava
 s tautas namā "Ozolaine".\n
CONTACT:Jūras ielā 1A
DTSTAMP:20260424T170650Z
DTSTART:20200222T120000Z
DTEND:20200222T133000Z
SEQUENCE:0
TRANSP:OPAQUE
END:VEVENT
END:VCALENDAR