BEGIN:VCALENDAR
VERSION:2.0
PRODID:-//jEvents 2.0 for Joomla//EN
CALSCALE:GREGORIAN
METHOD:PUBLISH
BEGIN:VEVENT
UID:2d0220e4690c2bfc4213b82c131b4461
CATEGORIES:Default
SUMMARY:Koncerts "Nopietni un nē"
LOCATION:Carnikavas tautas nams "Ozolaine" 
DESCRIPTION;ENCODING=QUOTED-PRINTABLE:\n\n\n\n\nNora Grosbārde mūzikā kopā ar Rūtu Ķergalvi un Rūtu Ozoliņu 29.fe
 bruārī 18:00 priecēs mūs ar stāstiem un dziesmām latviski, koncertā - "Nopi
 etni un nē". Pasākums norisināsies pie galdiņiem. Līdzi jāņem groziņš.\nIee
 ja pasākumā bez maksas!\n \n
CONTACT:Jūras ielā 1A
DTSTAMP:20260424T170545Z
DTSTART:20200229T180000Z
DTEND:20200229T210000Z
SEQUENCE:0
TRANSP:OPAQUE
END:VEVENT
END:VCALENDAR