BEGIN:VCALENDAR
VERSION:2.0
PRODID:-//jEvents 2.0 for Joomla//EN
CALSCALE:GREGORIAN
METHOD:PUBLISH
BEGIN:VEVENT
UID:131577d3ac0c65b09b4eb94d4ed6c852
CATEGORIES:Default
SUMMARY:XII Latvijas skolu jaunatnes dziesmu un deju svētku ieskaņas sadancis "Saules meita sagšas raksta"
LOCATION:Carnikavas pamatskolas sporta zļe
DESCRIPTION;ENCODING=QUOTED-PRINTABLE:\n\n\n\n\n7. martā plkst. 15.00 aicinām Carnikavas pamatskolas sporta zālē 
 (Nākotnes ielā 1A) norisināsies XII Latvijas skolu jaunatnes dziesmu un dej
 u svētku ieskaņas sadancis "Saules meita sagšas raksta". Piedalīsies 14 bēr
 nu deju kolektīvi, no Carnikavas, Rīgas Olaines u.c., kā arī viesi no Panev
 ēžas Lietuvā.\n\nIeeja bez maksas.\n
CONTACT:Nākotnes iela 1A
DTSTAMP:20260424T170656Z
DTSTART:20200307T150000Z
DTEND:20200307T180000Z
SEQUENCE:0
TRANSP:OPAQUE
END:VEVENT
END:VCALENDAR