BEGIN:VCALENDAR
VERSION:2.0
PRODID:-//jEvents 2.0 for Joomla//EN
CALSCALE:GREGORIAN
METHOD:PUBLISH
BEGIN:VEVENT
UID:7d7c510ead760498721cd262a5d64fc4
CATEGORIES:Default
SUMMARY:Filma "Pilsēta pie upes"
LOCATION:Carnikavas tautas nams "Ozolaine" 
DESCRIPTION;ENCODING=QUOTED-PRINTABLE:\n\n\n13. martā plkst. 19.00\nViestura Kairiša filma "Pilsēta pie upes" (Pi
 ļsāta pi upis).\nVecuma ierobežojums: 12+\nFilma latviešu, latgaliešu, krie
 vu un vācu valodā ar subtitriem latviešu un krievu valodā.\nBiļetes cena 3 
 eiro.\nBiļetes būs iespējams iegādāties Carnikavas tautas namā "Ozolaine" p
 irms filmas seansa.\n
CONTACT:Jūras ielā 1A
DTSTAMP:20260424T185051Z
DTSTART:20200313T190000Z
DTEND:20200313T210000Z
SEQUENCE:0
TRANSP:OPAQUE
END:VEVENT
END:VCALENDAR