BEGIN:VCALENDAR
VERSION:2.0
PRODID:-//jEvents 2.0 for Joomla//EN
CALSCALE:GREGORIAN
METHOD:PUBLISH
BEGIN:VEVENT
UID:4a8b84206b5f6f168a2dec51e47101da
CATEGORIES:Default
SUMMARY: Brain Games galda spēļu diena
LOCATION:Carnikavas tautas nams "Ozolaine" 
DESCRIPTION;ENCODING=QUOTED-PRINTABLE:"Brain Games" galda spēles kopā ar spēļu vadītājiem, kuri izskaidros spēļu 
 noteikumus.Dalība jāpiesaja līdz 29. februārim ŠEIT. 
CONTACT:Jūras ielā 1A
DTSTAMP:20260424T170656Z
DTSTART:20200302T080000Z
DTEND:20200302T170000Z
SEQUENCE:0
TRANSP:OPAQUE
END:VEVENT
END:VCALENDAR