BEGIN:VCALENDAR
VERSION:2.0
PRODID:-//jEvents 2.0 for Joomla//EN
CALSCALE:GREGORIAN
METHOD:PUBLISH
BEGIN:VEVENT
UID:7a0e70f16c9294f0d9435e86189cb646
CATEGORIES:Default
SUMMARY:Filma - "Pilsēta pie upes" 22.05.
LOCATION:Carnikavas tautas nams "Ozolaine"
DESCRIPTION;ENCODING=QUOTED-PRINTABLE:\n\n\n\n\nBiļetes uz filmas seansiem ir iespējams iegādāties Carnikavas tau
 tas namā "Ozolaine" Jūras ielā 1A:\n- uz seansu 22.maijā biļešu iepriekšpār
 došana notiks 20.maijā no plkst. 16:00-19:00\nMaksimālais viena seansa apme
 klētāju skaits - 23!\nBiļetes cena 3 eiro.\nLūdzam sagatavot precīzu naudu!
 \n
CONTACT:Jūras ielā 1A
DTSTAMP:20260424T204146Z
DTSTART:20200522T180000Z
DTEND:20200522T200000Z
SEQUENCE:0
TRANSP:OPAQUE
END:VEVENT
END:VCALENDAR