BEGIN:VCALENDAR
VERSION:2.0
PRODID:-//jEvents 2.0 for Joomla//EN
CALSCALE:GREGORIAN
METHOD:PUBLISH
BEGIN:VEVENT
UID:59297f5e34d3a9efb673fff99ed4109e
CATEGORIES:Default
SUMMARY:Normunda Beržinska izstādes atklāšana
LOCATION:Carnikavas tautas nams "Ozolaine"
DESCRIPTION;ENCODING=QUOTED-PRINTABLE:\n\n\n\n\nNormunda Beržinska personālizstādes grafika - "NEVIS TU TICI TAM,
  KO REDZI, BET GAN REDZI TO, KAM TICI" atklāšana un tikšanās ar izstādes au
 toru 13.06. plkst. 13:00\nIzstāde būs apskatāma no 13.06. - 16.07.\nIeeja p
 asākumā bez maksas!\n
CONTACT:Jūras ielā 1A
DTSTAMP:20260425T001204Z
DTSTART:20200613T130000Z
SEQUENCE:0
TRANSP:OPAQUE
END:VEVENT
END:VCALENDAR