BEGIN:VCALENDAR
VERSION:2.0
PRODID:-//jEvents 2.0 for Joomla//EN
CALSCALE:GREGORIAN
METHOD:PUBLISH
BEGIN:VEVENT
UID:b6d59e784ba947d7318528a611460bb5
CATEGORIES:Default
SUMMARY:Dzejas dienu koncerts "Bezpiederīgie mīl vairāk"
LOCATION:Carnikavas tautas nams "Ozolaine"
DESCRIPTION;ENCODING=QUOTED-PRINTABLE:\n\n\n\n\n9. septembrī plkst. 19:00 Carnikavas tautas namā "Ozolaine", Jūra
 s ielā 1a dzejas dienām veltīts kameruzvedums "Bezpiederīgie mīl vairāk".\n
 \n\nUzveduma programmā literatūras gada balvas ieguvējas Liānas Langas nepa
 rastā sociāli uzlādētā mīlestības dzeja autores lasījumā, Jāņa Deinata jaun
 āko fotogrāfiju projekcijas un mūsdienu komponistu kamermūzika Egīla Šēfera
  (klarnete, elektronika) un Toma Ostrovska (klavieres, elektronika) izpildī
 jumā.\n\n\nŠajā uzvedumā apvienojas latviešu literatūra, mūzika un foto māk
 sla. Tematiskais impulss programmai ir Liānas Langas dzeja, kas aicina aizd
 omāties par patiesām un svarīgām vērtībām, kas izaicina ar naudu un varu ai
 zņemtos prātus, liek "atmosties no miega" un ieraudzīt, kas notiek mums apk
 ārtun mūsos pašos. Jānis Deinats, fotografēdams apdzīvotas vietas, cilvēku 
 un arhitektūras mijiedarbību, notver ko daudz dziļāku, ilgu pilnu, samīļoja
 mu, ko tādu, kas mājo ikvienā no mums. Mūsdienu latviešu skaņražu, slavenāk
 ā igauņu komponista Arvo Perta un amerikāņu minimālista Stīva Reiha mūzika 
 attēlus un vārdus satver un piepilda, radot brīnišķīgu jūtu ietvaru.\n\n\nP
 rogrammā:\nAlbans Bergs\nMārīte Dombrovska\nĒriks Ešenvalds\nStīvs Garets\n
 Arvo Pērts\nStīvs Reihs\n\n\nIeeja bez maksas.\nPiedāvā Latvijas koncerti u
 n Carnikavas novada dome\n\n\n
CONTACT:29541105
DTSTAMP:20260419T183233Z
DTSTART:20160909T190000Z
SEQUENCE:0
TRANSP:OPAQUE
END:VEVENT
END:VCALENDAR