BEGIN:VCALENDAR
VERSION:2.0
PRODID:-//jEvents 2.0 for Joomla//EN
CALSCALE:GREGORIAN
METHOD:PUBLISH
BEGIN:VEVENT
UID:abbb2daf408962ac2a5a6cb6b50cd10c
CATEGORIES:Default
SUMMARY:NĒĢU SVĒTKU GADATIRGUS!
LOCATION:Carnikavas tautas nams "Ozolaine"
DESCRIPTION;ENCODING=QUOTED-PRINTABLE:\n\n\n\n\nCarnikavā 21.augustā no plkst. 9.00 līdz 16.00 Stacijas ielā, Svē
 tku laukumā un Zvejnieku ielā (no Atpūtas ielas) norisināsies NĒĢU SVĒTKU G
 ADATIRGUS!\n
CONTACT:Jūras ielā 1A
DTSTAMP:20260423T191723Z
DTSTART:20210821T090000Z
SEQUENCE:0
TRANSP:OPAQUE
END:VEVENT
END:VCALENDAR